{
 "currentVersion": 10.51,
 "serviceDescription": "Serviço de mapa base com projecção WGS84, para uso pela aplicação dos RSB (versão de produção).",
 "mapName": "Layers",
 "description": "",
 "copyrightText": "CM Lisboa 2024",
 "supportsDynamicLayers": true,
 "layers": [
  {
   "id": 0,
   "name": "Topónimos",
   "parentLayerId": -1,
   "defaultVisibility": true,
   "subLayerIds": null,
   "minScale": 90001,
   "maxScale": 20001
  },
  {
   "id": 1,
   "name": "Números de Policia_Inicial",
   "parentLayerId": -1,
   "defaultVisibility": true,
   "subLayerIds": null,
   "minScale": 2258,
   "maxScale": 1130
  },
  {
   "id": 2,
   "name": "Números de Policia_Intermedio",
   "parentLayerId": -1,
   "defaultVisibility": true,
   "subLayerIds": null,
   "minScale": 1129,
   "maxScale": 566
  },
  {
   "id": 3,
   "name": "Números de Policia_Final",
   "parentLayerId": -1,
   "defaultVisibility": true,
   "subLayerIds": null,
   "minScale": 565,
   "maxScale": 0
  },
  {
   "id": 45,
   "name": "Estatuária",
   "parentLayerId": -1,
   "defaultVisibility": false,
   "subLayerIds": null,
   "minScale": 1000,
   "maxScale": 0
  },
  {
   "id": 46,
   "name": "Miradouros",
   "parentLayerId": -1,
   "defaultVisibility": true,
   "subLayerIds": null,
   "minScale": 1000,
   "maxScale": 0
  },
  {
   "id": 7,
   "name": "Fontes e Chafarizes",
   "parentLayerId": -1,
   "defaultVisibility": true,
   "subLayerIds": null,
   "minScale": 1000,
   "maxScale": 0
  },
  {
   "id": 12,
   "name": "Quiosques",
   "parentLayerId": -1,
   "defaultVisibility": true,
   "subLayerIds": null,
   "minScale": 1000,
   "maxScale": 0
  },
  {
   "id": 13,
   "name": "Parques Infantis",
   "parentLayerId": -1,
   "defaultVisibility": true,
   "subLayerIds": null,
   "minScale": 1000,
   "maxScale": 0
  },
  {
   "id": 14,
   "name": "Árvores de Arruamento",
   "parentLayerId": -1,
   "defaultVisibility": true,
   "subLayerIds": null,
   "minScale": 1001,
   "maxScale": 0
  },
  {
   "id": 15,
   "name": "Árvores de Arruamento (3000 a 1000)",
   "parentLayerId": -1,
   "defaultVisibility": true,
   "subLayerIds": null,
   "minScale": 3001,
   "maxScale": 1001
  },
  {
   "id": 16,
   "name": "Cartografia (Linhas)",
   "parentLayerId": -1,
   "defaultVisibility": true,
   "subLayerIds": null,
   "minScale": 2500,
   "maxScale": 0
  },
  {
   "id": 17,
   "name": "Eixos de Via-Final",
   "parentLayerId": -1,
   "defaultVisibility": true,
   "subLayerIds": null,
   "minScale": 2500,
   "maxScale": 0
  },
  {
   "id": 18,
   "name": "Eixos de Via-Intermédio",
   "parentLayerId": -1,
   "defaultVisibility": true,
   "subLayerIds": null,
   "minScale": 20000,
   "maxScale": 2501
  },
  {
   "id": 19,
   "name": "Eixos de Via-Intermédio (até 20000)",
   "parentLayerId": -1,
   "defaultVisibility": true,
   "subLayerIds": null,
   "minScale": 32001,
   "maxScale": 20001
  },
  {
   "id": 24,
   "name": "PDM10_01PO_Hierarquia Rede Viária",
   "parentLayerId": -1,
   "defaultVisibility": true,
   "subLayerIds": null,
   "minScale": 0,
   "maxScale": 20001
  },
  {
   "id": 25,
   "name": "Vias AML",
   "parentLayerId": -1,
   "defaultVisibility": true,
   "subLayerIds": null,
   "minScale": 2501,
   "maxScale": 0
  },
  {
   "id": 59,
   "name": "Vias Principais AML",
   "parentLayerId": -1,
   "defaultVisibility": true,
   "subLayerIds": null,
   "minScale": 80000,
   "maxScale": 2500
  },
  {
   "id": 27,
   "name": "Edificado 20000 a 2500",
   "parentLayerId": -1,
   "defaultVisibility": true,
   "subLayerIds": null,
   "minScale": 20000,
   "maxScale": 2501
  },
  {
   "id": 28,
   "name": "Edificado",
   "parentLayerId": -1,
   "defaultVisibility": true,
   "subLayerIds": null,
   "minScale": 2500,
   "maxScale": 0
  },
  {
   "id": 29,
   "name": "Edificado (Corpo Secundário)",
   "parentLayerId": -1,
   "defaultVisibility": true,
   "subLayerIds": null,
   "minScale": 10000,
   "maxScale": 0
  },
  {
   "id": 30,
   "name": "Edificios Demolidos",
   "parentLayerId": -1,
   "defaultVisibility": true,
   "subLayerIds": null,
   "minScale": 20000,
   "maxScale": 0
  },
  {
   "id": 31,
   "name": "Edificios Projectados",
   "parentLayerId": -1,
   "defaultVisibility": true,
   "subLayerIds": null,
   "minScale": 20000,
   "maxScale": 0
  },
  {
   "id": 32,
   "name": "Construções Funerárias",
   "parentLayerId": -1,
   "defaultVisibility": true,
   "subLayerIds": null,
   "minScale": 2000,
   "maxScale": 0
  },
  {
   "id": 53,
   "name": "Cartografia (Polígonos)",
   "parentLayerId": -1,
   "defaultVisibility": true,
   "subLayerIds": null,
   "minScale": 2500,
   "maxScale": 0
  },
  {
   "id": 34,
   "name": "Parques e Jardins",
   "parentLayerId": -1,
   "defaultVisibility": true,
   "subLayerIds": null,
   "minScale": 20001,
   "maxScale": 0
  },
  {
   "id": 39,
   "name": "Edificios AML - verificar",
   "parentLayerId": -1,
   "defaultVisibility": true,
   "subLayerIds": null,
   "minScale": 10000,
   "maxScale": 0
  },
  {
   "id": 40,
   "name": "AML",
   "parentLayerId": -1,
   "defaultVisibility": true,
   "subLayerIds": null,
   "minScale": 0,
   "maxScale": 0
  },
  {
   "id": 69,
   "name": "Vias Histórico",
   "parentLayerId": -1,
   "defaultVisibility": false,
   "subLayerIds": null,
   "minScale": 0,
   "maxScale": 0
  },
  {
   "id": 70,
   "name": "Vias Projectadas",
   "parentLayerId": -1,
   "defaultVisibility": false,
   "subLayerIds": null,
   "minScale": 0,
   "maxScale": 0
  },
  {
   "id": 71,
   "name": "CML.L10CP_EXIST_EDIFICIO_PT",
   "parentLayerId": -1,
   "defaultVisibility": true,
   "subLayerIds": null,
   "minScale": 0,
   "maxScale": 0
  },
  {
   "id": 72,
   "name": "CML.L10CP_EDIFICIO_ALL_PL",
   "parentLayerId": -1,
   "defaultVisibility": true,
   "subLayerIds": null,
   "minScale": 0,
   "maxScale": 0
  },
  {
   "id": 77,
   "name": "CML.L10CP_EDIFICIO_ALL_PT",
   "parentLayerId": -1,
   "defaultVisibility": true,
   "subLayerIds": null,
   "minScale": 0,
   "maxScale": 0
  },
  {
   "id": 79,
   "name": "CML.MV_L3EX_VIAS_RUAS_MERGE_LN",
   "parentLayerId": -1,
   "defaultVisibility": false,
   "subLayerIds": null,
   "minScale": 0,
   "maxScale": 0
  }
 ],
 "tables": [],
 "spatialReference": {
  "wkid": 102100,
  "latestWkid": 3857
 },
 "singleFusedMapCache": true,
 "tileInfo": {
  "rows": 256,
  "cols": 256,
  "dpi": 96,
  "format": "MIXED",
  "compressionQuality": 75,
  "origin": {
   "x": -20037700,
   "y": 30241100
  },
  "spatialReference": {
   "wkid": 102100,
   "latestWkid": 3857
  },
  "lods": [
   {
    "level": 0,
    "resolution": 156543.34701231902,
    "scale": 5.916587109E8
   },
   {
    "level": 1,
    "resolution": 78271.67350615951,
    "scale": 2.9582935545E8
   },
   {
    "level": 2,
    "resolution": 39135.83675440268,
    "scale": 1.4791467773E8
   },
   {
    "level": 3,
    "resolution": 19567.91837587842,
    "scale": 7.395733886E7
   },
   {
    "level": 4,
    "resolution": 9783.95918793921,
    "scale": 3.697866943E7
   },
   {
    "level": 5,
    "resolution": 4891.979595292524,
    "scale": 1.848933472E7
   },
   {
    "level": 6,
    "resolution": 2445.989797646262,
    "scale": 9244667.36
   },
   {
    "level": 7,
    "resolution": 1222.994898823131,
    "scale": 4622333.68
   },
   {
    "level": 8,
    "resolution": 611.4974494115655,
    "scale": 2311166.84
   },
   {
    "level": 9,
    "resolution": 305.74872470578276,
    "scale": 1155583.42
   },
   {
    "level": 10,
    "resolution": 152.87436235289138,
    "scale": 577791.71
   },
   {
    "level": 11,
    "resolution": 76.43717985352637,
    "scale": 288895.85
   },
   {
    "level": 12,
    "resolution": 38.2185912496825,
    "scale": 144447.93
   },
   {
    "level": 13,
    "resolution": 19.10929430192194,
    "scale": 72223.96
   },
   {
    "level": 14,
    "resolution": 9.55464715096097,
    "scale": 36111.98
   },
   {
    "level": 15,
    "resolution": 4.777323575480485,
    "scale": 18055.99
   },
   {
    "level": 16,
    "resolution": 2.3886631106595546,
    "scale": 9028
   },
   {
    "level": 17,
    "resolution": 1.1943315553297773,
    "scale": 4514
   },
   {
    "level": 18,
    "resolution": 0.5971657776648887,
    "scale": 2257
   },
   {
    "level": 19,
    "resolution": 0.2985828888324443,
    "scale": 1128.5
   },
   {
    "level": 20,
    "resolution": 0.14929144441622216,
    "scale": 564.25
   }
  ]
 },
 "initialExtent": {
  "xmin": -1043384.3219500176,
  "ymin": 4679083.735291062,
  "xmax": -1000442.3610660959,
  "ymax": 4702380.344384281,
  "spatialReference": {
   "cs": "pcs",
   "wkid": 102100
  }
 },
 "fullExtent": {
  "xmin": -1073125.1951031163,
  "ymin": 4633666.906354588,
  "xmax": -944219.9372926007,
  "ymax": 4741934.622890021,
  "spatialReference": {
   "cs": "pcs",
   "wkid": 102100
  }
 },
 "minScale": 5.916587109E8,
 "maxScale": 564.25,
 "units": "esriMeters",
 "supportedImageFormatTypes": "PNG32,PNG24,PNG,JPG,DIB,TIFF,EMF,PS,PDF,GIF,SVG,SVGZ,BMP",
 "documentInfo": {
  "Title": "",
  "Author": "",
  "Comments": "Serviço de mapa base com projecção WGS84, para uso pela aplicação dos RSB (versão de produção).",
  "Subject": "Serviço de mapa base com projecção WGS84, também para uso (uma copia) pela aplicação dos RSB (versão de produção).",
  "Category": "",
  "AntialiasingMode": "None",
  "TextAntialiasingMode": "Force",
  "Keywords": "Mapa Base,WGS84"
 },
 "capabilities": "Map,Query,Data",
 "supportedQueryFormats": "JSON, AMF, geoJSON",
 "exportTilesAllowed": false,
 "datumTransformations": [
  {
   "geoTransforms": [
    {
     "wkid": 1149,
     "latestWkid": 1149,
     "transformForward": true,
     "name": "ETRS_1989_To_WGS_1984"
    }
   ]
  },
  {
   "geoTransforms": [
    {
     "wkid": 1149,
     "latestWkid": 1149,
     "transformForward": false,
     "name": "ETRS_1989_To_WGS_1984"
    }
   ]
  }
 ],
 "supportsDatumTransformation": true,
 "maxRecordCount": 1000,
 "maxImageHeight": 4096,
 "maxImageWidth": 4096,
 "supportedExtensions": ""
}
